BEGIN:VCALENDAR
VERSION:2.0
BEGIN:VEVENT
URL:https://www.rl.lu/de/qrz/events/events/viewevent/299-iaru-hf-world-championship-2021 
DTSTART:20210710T140000
DTEND:20210711T140000
SUMMARY:IARU HF World Championship 2021
DESCRIPTION:<p>The objective of the IARU HF World Championship is “to support amateur self-training in radiocommunications including improving amateur operating skills, conducting technical investigations, and intercommunicating with other amateurs around the world, especially IARU member society headquarters stations, using the 160, 80, 40, 20, 15 and 10-meter bands.” The special rules governing IARU Member Society HQ Stations allow for multiple sites to be used, again subject to national regulations</p><br /><p><a href="http://www.arrl.org/iaru-hf-world-championship" title="For more information">visit the ARRL IARU HF World Championship page</a><br /></p>
LOCATION:Luxembourg
END:VEVENT
END:VCALENDAR