BEGIN:VCALENDAR
VERSION:2.0
BEGIN:VEVENT
URL:https://www.rl.lu/de/qrz/events/events/viewevent/300-lx5ward-world-amateur-radio-day 
DTSTART:20210405T000000
DTEND:20210425T000000
SUMMARY:LX5WARD - World Amateur Radio Day
DESCRIPTION:<p>https://www.rl.lu/rl/information/iaru/393-world-amateur-radio-day-2021</p>


LOCATION:Luxembourg
END:VEVENT
END:VCALENDAR