BEGIN:VCALENDAR
VERSION:2.0
BEGIN:VEVENT
URL:https://www.rl.lu/de/qrz/events/events/viewevent/305-ft8dmc-activity-days-2021 
DTSTART:20210802T000000
DTEND:20210815T000000
SUMMARY:FT8DMC ACTIVITY DAYS 2021
DESCRIPTION:<p>FT8DMC ACTIVITY DAYS 2021
</p><p>TO COMMEMORATE OUR 4TH ANNIVERSARY, SPECIAL EVENT STATIONS WILL BE ON AIR DURING THE FT8DMC ACTIVITY DAYS FROM 2. – 15. AUGUST 2021. ALL STATIONS WILL BEAR THE FTDMC OR FTDM SUFFIX.
</p><p>ANNIVERSARY AWARDS CAN BE EARNED BY WORKING THE FTDMC AND FTDM STATIONS AND COLLECTING POINTS APPLICABLE FOR VARIOUS AWARD CLASSES.</p><p>73 AND HAVE FUN CHASING OR ACTIVATING!</p>
LOCATION:Luxembourg
END:VEVENT
END:VCALENDAR