BEGIN:VCALENDAR
VERSION:2.0
BEGIN:VEVENT
URL:https://www.rl.lu/qrz/events/events/viewevent/225-hamradio-friedrichshafen-2019 
DTSTART:20190621T090000
DTEND:20190623T150000
SUMMARY:HamRadio Friedrichshafen 2019
DESCRIPTION:<p>Op der HamRadio zu Friedrichshafen ass dëst Joer den RL och nees vertrueden.</p><p>http://www.hamradio-friedrichshafen.de/ham-de/</p>
LOCATION:Friedrichshafen
END:VEVENT
END:VCALENDAR