BEGIN:VCALENDAR
VERSION:2.0
BEGIN:VEVENT
URL:https://www.rl.lu/qrz/events/events/viewevent/240-ardf-2019-rl-fuussejuegd-rl-fox-hunt 
DTSTART:20190901T100000
DTEND:20190901T140000
SUMMARY:ARDF 2019 - RL Fuussejuegd / RL Fox hunt
DESCRIPTION:For a full description of the event, check <a href="https://www.rl.lu/95-categories-all/rl/information/working-groups/359-ardf-2019-rl-fuussejuegd-rl-fox-hunt.html" title="ARDF Event">here</a><br />
LOCATION:Grousbous
END:VEVENT
END:VCALENDAR