BEGIN:VCALENDAR
VERSION:2.0
BEGIN:VEVENT
URL:https://www.rl.lu/qrz/events/events/viewevent/32-world-radiosport-team-championship-2014 
DTSTART:20140708T000000
DTEND:20140714T000000
SUMMARY:World Radiosport Team Championship 2014
DESCRIPTION:<p style="box-sizing: border-box; word-wrap: break-word; font-family: Arial, sans-serif; font-size: 14px; line-height: 21px;">
	<br />
	The World Radiosport Team Championship (WRTC) is a competition between two-person teams of amateur radio operators testing their skills to make contacts with other Amateur Radio operators around the world over a 24 hour period. Unlike most on-the-air competitions, all stations are required to use identical antennas from the same geographic region, eliminating all variables except operating ability.</p>
<p style="box-sizing: border-box; word-wrap: break-word; font-family: Arial, sans-serif; font-size: 14px; line-height: 21px;">
	WRTC2014 will include 59 competing teams from 29 qualifying regions around the world. This will be the largest and most competitive WRTC ever!</p>
<p style="box-sizing: border-box; word-wrap: break-word; font-family: Arial, sans-serif; font-size: 14px; line-height: 21px;">
	http://www.wrtc2014.org/</p>
<p style="box-sizing: border-box; word-wrap: break-word; font-family: Arial, sans-serif; font-size: 14px; line-height: 21px;">
	Central Europe, Team 1:</p>
<div>
	<strong style="box-sizing: border-box; word-wrap: break-word; font-family: Arial, sans-serif; font-size: 14px; line-height: 21px;">LX2A Philippe Lutty </strong></div>
<div>
	<strong style="box-sizing: border-box; word-wrap: break-word; font-family: Arial, sans-serif; font-size: 14px; line-height: 21px;"><strong style="box-sizing: border-box; word-wrap: break-word;">YO3JR </strong><strong style="box-sizing: border-box; word-wrap: break-word;">Andy Ruse</strong></strong></div>
LOCATION:New England
END:VEVENT
END:VCALENDAR