BEGIN:VCALENDAR
VERSION:2.0
BEGIN:VEVENT
URL:https://www.rl.lu/qrz/events/events/viewevent/34-20ieme-foire-radioamateur-de-la-louviere 
DTSTART:20140928T090000
DTEND:20140928T160000
SUMMARY:20ième FOIRE RADIOAMATEUR de LA LOUVIERE
DESCRIPTION:<p>
	La 20<sup>ième</sup> foire Radioamateur organisée par ON6LL se tiendra dans le nouveau hall de la ville de La Louvière<strong>.</strong></p>
<p>
	Les parkings sont maintenant tous terminés et accessibles.</p>
<p>
	Tous les nouveaux exposants qui souhaiteraient participer pour la première fois sont toujours les bienvenus !</p>
<p>
	 </p>
<p>
	<em>A part cela, la foire ON6LL c&rsquo;est toujours</em> :</p>
<p>
	4000 m<sup>2</sup> d&rsquo;exposition, de nombreux exposants venus de toute l&rsquo;Europe, une cafeteria ouverte</p>
<p>
	toute la journée pour une petite restauration ou un verre entre amis.</p>
<p>
	 </p>
<p>
	<em>En pratique :</em></p>
<p>
	Entrée 7&euro;, toujours gratuit pour les (x)YL&rsquo;s et les jeunes enfants.</p>
<p>
	Accès direct depuis les autoroutes E42 et E19 via l&rsquo;A501 jusque La Louvière ensuite suivre la direction « Hall EXPO ».</p>
<p>
	Adresse : LOUVEXPO, rue des boulonneries, La Louvière  - Coordonnées GPS : Lat. N50° 29&rsquo; 00&rsquo;&rsquo; / Long E04° 11&rsquo; 04&rsquo;&rsquo;</p>
<p>
	 </p>
<p>
	Informations, plan d&rsquo;accès et inscription en ligne : <a href="https://webmail.pt.lu/webmail/redirect?u=http%3A%2F%2Fwww.on6ll.be%2F" target="_blank">www.on6ll.be</a> ou par téléphone, Michel ON7FI au +32 (0)475 / 45 45 78</p>
<p>
	 </p>
<p>
	La foire attire plus de 2000 visiteurs et est toujours l&rsquo;un des événements radio-amateur les plus réussis. Si vous n&rsquo;avez pas encore eu la chance d&rsquo;y participer, regardez le reportage d&rsquo;une des dernières éditions :</p>
<p>
	<a href="https://webmail.pt.lu/webmail/redirect?u=http%3A%2F%2Fwww.youtube.com%2Fwatch%3Fv%3De-JPYHamdNo%26gl%3DBE" target="_blank">http://www.youtube.com/watch?v=e-JPYHamdNo&gl=BE</a></p>
<p>
	 </p>
<p>
	73's</p>
<p>
	ON6LL team</p>
LOCATION: rue des boulonneries, La Louvière 
END:VEVENT
END:VCALENDAR