BEGIN:VCALENDAR
VERSION:2.0
BEGIN:VEVENT
URL:https://www.rl.lu/qrz/events/events/viewevent/41-d-star-qso-party-2014 
DTSTART:20140919T000000
DTEND:20140921T000000
SUMMARY:D-Star QSO Party 2014
DESCRIPTION:<p>
	Read more</p>
<p>
	<a href="http://www.icomamerica.com/en/amateur/d-starparty2014.aspx">http://www.icomamerica.com/en/amateur/d-starparty2014.aspx</a></p>
LOCATION:Worldwide
END:VEVENT
END:VCALENDAR