BEGIN:VCALENDAR
VERSION:2.0
BEGIN:VEVENT
URL:https://www.rl.lu/qrz/events/events/viewevent/43-jota-2014 
DTSTART:20141018T000000
DTEND:20141019T234500
SUMMARY:JOTA 2014
DESCRIPTION:<p>JOTA is the largest Scouting event in the world with nearly one million Scouts participating across 160+ countries the third weekend of October.</p>
<p>More info:</p>
<p>http://jotajoti.info/</p>
LOCATION:Luxembourg
END:VEVENT
END:VCALENDAR