BEGIN:VCALENDAR
VERSION:2.0
BEGIN:VEVENT
URL:https://www.rl.lu/qrz/events/events/viewevent/44-saarlorlux-amateurfunktag 
DTSTART:20141109T100000
DTEND:20141109T160000
SUMMARY:SAARLORLUX-Amateurfunktag
DESCRIPTION:<div>Titel: SAARLORLUX-Amateurfunktag</div>
<div> </div>
<div>Startdatum: November 09</div>
<div>Startzeit: 10:00 am</div>
<div>Stoppzeit: 04:00 pm</div>
<div> </div>
<div>Beschreibung: Ausstellung, Flohmarkt , Vorträge</div>
<div> </div>
<div>Alte Näherei</div>
<div>Holzerstraße 126 b </div>
<div>D-66287 Quierschied</div>
<div>
<p class="bodytext">Tische kostenlos bei dk4xc@t-online.de</p>
</div>
LOCATION:Quierschied (Saarland)
END:VEVENT
END:VCALENDAR