BEGIN:VCALENDAR
VERSION:2.0
BEGIN:VEVENT
URL:https://www.rl.lu/qrz/events/events/viewevent/50-youngsters-on-the-air-lx4yota 
DTSTART:20141201T000000
DTEND:20141231T000000
SUMMARY:Youngsters On The Air - LX4YOTA
DESCRIPTION:<p><span style="color: #3f3f3f; font-family: Tahoma, Geneva, sans-serif;"><span style="font-size: 13px; line-height: 21px;">Am Kader vum Youngsters on the air Working Group vun der IARU Region 1 ass vum 1. bis den 31. </span></span>Dezember de YOTA Month. An deem Mount sollen international speziell Jugend-Statioune QRV ginn, fir d’Äiss e bëssen ze briechen, dass jonk Leit rëm méi de Mikro an de Grapp huelen. Lëtzebuerg wäert mam Ruffzeechen LX4YOTA matmaachen. Jonk Memberen déi och dat Ruffzeeche wëllen während engem oder e puer Deeg aktivéieren, kenne sech beim Youth-Koordinator Ralph LX1RS (lx1rs@rl.lu) a beim President Mich LX1KQ (lx1kq@rl.lu) mellen.</p>
<p><span style="color: #3f3f3f; font-family: Tahoma, Geneva, sans-serif;"><span style="font-size: 13px; line-height: 21px;">Méi Informatiounen iwwer déi aner Statiounen déi matmaachen an d’Konditioune fir den Diplom ze </span></span>kréien fannt dir ënner <a href="http://www.ham-yota.com/" target="_blank">http://www.ham-yota.com/</a></p>
LOCATION:Luxembourg
END:VEVENT
END:VCALENDAR