BEGIN:VCALENDAR
VERSION:2.0
BEGIN:VEVENT
URL:https://www.rl.lu/qrz/events/events/viewevent/58-tesla-memorial-hf-contest-2015 
DTSTART:20150314T190000
DTEND:20150315T090000
SUMMARY:Tesla Memorial HF Contest 2015
DESCRIPTION:<p>Dear Sirs,<br /><br />We invite members of your Society to participate in 2nd "Tesla Memorial HF Contest" which will be held on March, 14/15 2015. starting at 18:00 UTC and ending at 08:00 UTC. The competition is open to operators all over the Globe.<br /><br />General rules are:<br />Everyone works everyone on 80m band only CW;<br />Points are: distance between stations.<br /><br />Exchange:<br />RST + QSO NR + QTH Locator (first four elements of grid squere);<br />Exchange examples: 599 043 JO54, 599 065 FN12.<br /><br />Categories:<br />- Multi Op.-Single TX HP;<br />- Single Op. HP, LP and QRP - full or limited time.<br /><br />WEB service software for receiving logs will be on and is one of ways for updating logs.<br />Claimed scores will be published right after log submission deadline.<br /><br />Check our website for rules, awarding and more details:<br />http://www.radiosport.org.rs/HFTeslaMemorial/<br /><br />Thank you in advance for supporting this contest.<br /><br /><br />Amateur Radio Union of Serbia<br />Tesla Memorial HF Contest<br />Contest Committee<br />Zvonko Colja YT1WA<br />Sinisa Radulovic YU1RA</p>
LOCATION:80m
END:VEVENT
END:VCALENDAR