BEGIN:VCALENDAR
VERSION:2.0
BEGIN:VEVENT
URL:https://www.rl.lu/qrz/events/events/viewevent/8-ham-radio 
DTSTART:20140627T000000
DTEND:20140629T235959
SUMMARY:HAM RADIO
DESCRIPTION:<p><a href="http://www.hamradio-friedrichshafen.de/ham-de/index.php" target="_blank">HAM RADIO</a></p>
<p style="font: 12px/16px Arial, sans-serif, Helvetica; margin: 0px; padding: 0px; color: #000000; text-transform: none; text-indent: 0px; letter-spacing: normal; word-spacing: 0px; white-space: normal; font-size-adjust: none; font-stretch: normal; background-color: #eaeff2; -webkit-text-stroke-width: 0px;"><strong style="margin: 0px; padding: 0px; font-size: 12px;">Internationale Amateurfunk-Ausstellung mit HAMtronic - Elektronik, Internet, Computer<br style="margin: 0px; padding: 0px; font-size: 12px;" />27. - 29. Juni 2014 - Friedrichshafen, Bodensee<br style="margin: 0px; padding: 0px; font-size: 12px;" /><br style="margin: 0px; padding: 0px; font-size: 12px;" /></strong></p>
<table class="special" style="font: 12px/20px Arial, sans-serif, Helvetica; margin: 0px 0px 12px; padding: 0px; border: currentColor; color: #000000; text-transform: none; text-indent: 0px; letter-spacing: normal; word-spacing: 0px; white-space: normal; font-size-adjust: none; font-stretch: normal; background-color: #eaeff2; -webkit-text-stroke-width: 0px;" width="100%" cellspacing="0" cellpadding="0">
<tbody style="margin: 0px; padding: 0px; font-size: 12px;">
<tr style="margin: 0px; padding: 0px; font-size: 12px;"><th style="margin: 0px; padding: 0px 6px; text-align: left; color: #ffffff; font-size: 12px; font-weight: bold; vertical-align: top; border-top-color: #000000; border-bottom-color: #000000; border-top-width: 1px; border-bottom-width: 1px; border-top-style: solid; border-bottom-style: solid; background-color: #999999;">Öffnungszeiten</th><th style="margin: 0px; padding: 0px 6px; text-align: left; color: #ffffff; font-size: 12px; font-weight: bold; vertical-align: top; border-top-color: #000000; border-bottom-color: #000000; border-top-width: 1px; border-bottom-width: 1px; border-top-style: solid; border-bottom-style: solid; background-color: #999999;"> </th></tr>
<tr style="margin: 0px; padding: 0px; font-size: 12px;">
<td style="margin: 0px; padding: 0px 6px; text-align: left; color: #000000; font-size: 12px; vertical-align: top; border-bottom-color: #c1c1c1; border-bottom-width: 1px; border-bottom-style: solid; background-color: #ffffff;">Freitag - Samstag</td>
<td style="margin: 0px; padding: 0px 6px; text-align: right; color: #000000; font-size: 12px; vertical-align: top; border-bottom-color: #c1c1c1; border-bottom-width: 1px; border-bottom-style: solid; background-color: #ffffff;">von 9.00 bis 18.00 Uhr</td>
</tr>
<tr style="margin: 0px; padding: 0px; font-size: 12px;">
<td style="margin: 0px; padding: 0px 6px; text-align: left; color: #000000; font-size: 12px; vertical-align: top; border-bottom-color: #c1c1c1; border-bottom-width: 1px; border-bottom-style: solid; background-color: #ffffff;">
<div style="margin: 0px; padding: 0px; font-size: 12px;">Sonntag</div>
</td>
<td style="margin: 0px; padding: 0px 6px; text-align: right; color: #000000; font-size: 12px; vertical-align: top; border-bottom-color: #c1c1c1; border-bottom-width: 1px; border-bottom-style: solid; background-color: #ffffff;"> von 9.00 bis 15.00 Uhr</td>
</tr>
</tbody>
</table>
<p> </p>
<p> </p>
LOCATION:Neue Messe 1,88046 Friedrichshafen,Germany
END:VEVENT
END:VCALENDAR